BEGIN:VCALENDAR
VERSION:1.0
PRODID:Open2CKalenderExportV11
BEGIN:VEVENT
DTSTAMP:20260313T111217Z
DTSTART:20260425T000000Z
DTEND:20260425T000000Z
SUMMARY:Evang. Kirche Bindlach, Silberne Konfirmation
DESCRIPTION:Evang. Kirche Bindlach, Silberne Konfirmation
LOCATION:
UID:8a6a82b2fe0d53535975e8ac4a694490-1ce04dbf89cc2ab0c1c9259f7a363925
PRIORITY:3
END:VEVENT
END:VCALENDAR
