BEGIN:VCALENDAR
VERSION:1.0
PRODID:Open2CKalenderExportV11
BEGIN:VEVENT
DTSTAMP:20260313T111238Z
DTSTART:20260425T000000Z
DTEND:20260426T000000Z
SUMMARY:Brettspielverein, Brettspieltage, Bärenhalle
DESCRIPTION:Brettspielverein, Brettspieltage, Bärenhalle
LOCATION:
UID:ab76e85501f519f3200e1d50dc4b1c8f-a191d230b2231d8257ef4b38c76c2623
PRIORITY:3
END:VEVENT
END:VCALENDAR
