BEGIN:VCALENDAR
VERSION:1.0
PRODID:Open2CKalenderExportV11
BEGIN:VEVENT
DTSTAMP:20260327T094029Z
DTSTART:20260426T000000Z
DTEND:20260426T000000Z
SUMMARY:Evang. Kirche Bindlach, Jubelkonfirmation
DESCRIPTION:Evang. Kirche Bindlach, Jubelkonfirmation
LOCATION:
UID:c0a290a6a77af4c0174c5ff1d15139a4-95e36b6f43c7c09945c39122c8d2f46e
PRIORITY:3
END:VEVENT
END:VCALENDAR
