BEGIN:VCALENDAR
VERSION:1.0
PRODID:Open2CKalenderExportV11
BEGIN:VEVENT
DTSTAMP:20260313T111555Z
DTSTART:20260501T000000Z
DTEND:20260501T000000Z
SUMMARY:FF Bindlach, Maifest
DESCRIPTION:FF Bindlach, Maifest
LOCATION:
UID:9f1dd3848f9f83046fcce317148b4b8a-9c7f3d610091cd2039e57c716b02d742
PRIORITY:3
END:VEVENT
END:VCALENDAR
