BEGIN:VCALENDAR
VERSION:1.0
PRODID:Open2CKalenderExportV11
BEGIN:VEVENT
DTSTAMP:20260313T111609Z
DTSTART:20260501T130000Z
DTEND:20260501T130000Z
SUMMARY:Gartenbauverein Ramsenthal, Maifest
DESCRIPTION:Gartenbauverein Ramsenthal, Maifest
LOCATION:
UID:d2a6ff772a122dab318025ac559152e1-59d5a33ea03e691ac9e266a7bbb243d3
PRIORITY:3
END:VEVENT
END:VCALENDAR
