BEGIN:VCALENDAR
VERSION:1.0
PRODID:Open2CKalenderExportV11
BEGIN:VEVENT
DTSTAMP:20260313T111627Z
DTSTART:20260502T143000Z
DTEND:20260502T143000Z
SUMMARY:VdK, Muttertagsfeier, Gaststätte Bock, Ramsenthal
DESCRIPTION:VdK, Muttertagsfeier, Gaststätte Bock, Ramsenthal
LOCATION:
UID:1073160b200601a06e8aabc408f330f0-b7b4cbd87765178419a6dd34b006e9f9
PRIORITY:3
END:VEVENT
END:VCALENDAR
