BEGIN:VCALENDAR
VERSION:1.0
PRODID:Open2CKalenderExportV11
BEGIN:VEVENT
DTSTAMP:20260313T111644Z
DTSTART:20260503T000000Z
DTEND:20260503T000000Z
SUMMARY:FF Benk / GV Benk-Deps, Kirchweihgottesdienst mit Fahnenabordnung
DESCRIPTION:FF Benk / GV Benk-Deps, Kirchweihgottesdienst mit Fahnenabordnung
LOCATION:
UID:240d44452ddfca3d7cfcd14162e084d8-95bf2242fb701df0d217d5065f45ebcf
PRIORITY:3
END:VEVENT
END:VCALENDAR
