BEGIN:VCALENDAR
VERSION:1.0
PRODID:Open2CKalenderExportV11
BEGIN:VEVENT
DTSTAMP:20260313T111703Z
DTSTART:20260503T000000Z
DTEND:20260503T000000Z
SUMMARY:Evang. Kirche Bindlach, Gottesdienst nur um 18.00 Uhr
DESCRIPTION:Evang. Kirche Bindlach, Gottesdienst nur um 18.00 Uhr
LOCATION:
UID:240d44452ddfca3d7cfcd14162e084d8-4812913aad05edc0b88cf0942c932f48
PRIORITY:3
END:VEVENT
END:VCALENDAR
