BEGIN:VCALENDAR
VERSION:1.0
PRODID:Open2CKalenderExportV11
BEGIN:VEVENT
DTSTAMP:20260313T111724Z
DTSTART:20260505T000000Z
DTEND:20260505T000000Z
SUMMARY:Evang. Kirche Bindlach, 60+ Geburtstagsund Gemeindenachmittag
DESCRIPTION:Evang. Kirche Bindlach, 60+ Geburtstagsund Gemeindenachmittag
LOCATION:
UID:6fdcdf31297526031b3a5adcbe1221bb-bf29073f8e7ffb08a13527826c32c553
PRIORITY:3
END:VEVENT
END:VCALENDAR
