BEGIN:VCALENDAR
VERSION:1.0
PRODID:Open2CKalenderExportV11
BEGIN:VEVENT
DTSTAMP:20260313T111930Z
DTSTART:20260507T143000Z
DTEND:20260507T143000Z
SUMMARY:Ramsadeeler Seniorenhilfe e. V., Kaffeetrinken, Sportheim Ramsenthal
DESCRIPTION:Ramsadeeler Seniorenhilfe e. V., Kaffeetrinken, Sportheim Ramsenthal
LOCATION:
UID:65c9c7775ea25f38dec6e3a93eaf499b-4f674aaf50d3d3c608c69a30925abeb2
PRIORITY:3
END:VEVENT
END:VCALENDAR
