BEGIN:VCALENDAR
VERSION:1.0
PRODID:Open2CKalenderExportV11
BEGIN:VEVENT
DTSTAMP:20260313T111951Z
DTSTART:20260507T190000Z
DTEND:20260507T190000Z
SUMMARY:Wanderer „Stammtisch“, Pfitschnhaus
DESCRIPTION:Wanderer „Stammtisch“, Pfitschnhaus
LOCATION:
UID:58114714f00ab92dec7e30dbca8b0d71-878771535c44db46c886fece0bd5279f
PRIORITY:3
END:VEVENT
END:VCALENDAR
