BEGIN:VCALENDAR
VERSION:1.0
PRODID:Open2CKalenderExportV11
BEGIN:VEVENT
DTSTAMP:20260313T112011Z
DTSTART:20260507T190000Z
DTEND:20260507T190000Z
SUMMARY:CSU, Stammtisch, Ristorante San Marino
DESCRIPTION:CSU, Stammtisch, Ristorante San Marino
LOCATION:
UID:58114714f00ab92dec7e30dbca8b0d71-f16dd19218ec82146be54d2644d261a5
PRIORITY:3
END:VEVENT
END:VCALENDAR
