BEGIN:VCALENDAR
VERSION:1.0
PRODID:Open2CKalenderExportV11
BEGIN:VEVENT
DTSTAMP:20260313T112026Z
DTSTART:20260508T000000Z
DTEND:20260508T000000Z
SUMMARY:Schnupferclub, Stammtisch, Pfitschnhaus
DESCRIPTION:Schnupferclub, Stammtisch, Pfitschnhaus
LOCATION:
UID:6627e53f2f5db0dfdbb298fc280986ad-355902ff42f1028906124bf6317bfcd7
PRIORITY:3
END:VEVENT
END:VCALENDAR
