BEGIN:VCALENDAR
VERSION:1.0
PRODID:Open2CKalenderExportV11
BEGIN:VEVENT
DTSTAMP:20260313T112041Z
DTSTART:20260508T170000Z
DTEND:20260508T170000Z
SUMMARY:VdK, Stammtisch, Gaststätte "Zum Oschenberg", Allersdorf
DESCRIPTION:VdK, Stammtisch, Gaststätte "Zum Oschenberg", Allersdorf
LOCATION:
UID:b3dfecae1d7ec884b7114b9cea58bd8d-c4326fce381b862dd0ef8cde19ddb7fe
PRIORITY:3
END:VEVENT
END:VCALENDAR
