BEGIN:VCALENDAR
VERSION:1.0
PRODID:Open2CKalenderExportV11
BEGIN:VEVENT
DTSTAMP:20260313T112101Z
DTSTART:20260508T000000Z
DTEND:20260510T000000Z
SUMMARY:SFV Bindlach, Meisterschaftsveranstaltung, Bärenhalle
DESCRIPTION:SFV Bindlach, Meisterschaftsveranstaltung, Bärenhalle
LOCATION:
UID:458d8781d80f45f15e5b6913da5f404d-2d8fedabd987eb382cadcb0e4cf66ec9
PRIORITY:3
END:VEVENT
END:VCALENDAR
