BEGIN:VCALENDAR
VERSION:1.0
PRODID:Open2CKalenderExportV11
BEGIN:VEVENT
DTSTAMP:20260313T112118Z
DTSTART:20260509T000000Z
DTEND:20260509T000000Z
SUMMARY:Evang. Kirche Bindlach, Kirche Kunterbunt „Heldenhaft“
DESCRIPTION:Evang. Kirche Bindlach, Kirche Kunterbunt „Heldenhaft“
LOCATION:
UID:fa84483bbcea800902be1404fcd737e0-6a048dcf228e8aca742078411775ffa5
PRIORITY:3
END:VEVENT
END:VCALENDAR
