BEGIN:VCALENDAR
VERSION:1.0
PRODID:Open2CKalenderExportV11
BEGIN:VEVENT
DTSTAMP:20260313T112150Z
DTSTART:20260514T000000Z
DTEND:20260514T000000Z
SUMMARY:Evang. Kirche Bindlach, Gottesdienst im Grünen, Pfitschn
DESCRIPTION:Evang. Kirche Bindlach, Gottesdienst im Grünen, Pfitschn
LOCATION:
UID:7045c1ba42a726d4b0ec17386d58cc77-4fc29d40909a25adf0ee59b0e0773c7d
PRIORITY:3
END:VEVENT
END:VCALENDAR
