BEGIN:VCALENDAR
VERSION:1.0
PRODID:Open2CKalenderExportV11
BEGIN:VEVENT
DTSTAMP:20260313T112215Z
DTSTART:20260517T100000Z
DTEND:20260517T160000Z
SUMMARY:Bürgerverein Bindlacher Berg, Garagenflohmarkt am Bindlacher Berg
DESCRIPTION:Bürgerverein Bindlacher Berg, Garagenflohmarkt am Bindlacher Berg
LOCATION:
UID:996dec2c0c208c8b1939fa5a357ee9c8-551990060b5354489fecf22100c4ebf7
PRIORITY:3
END:VEVENT
END:VCALENDAR
