BEGIN:VCALENDAR
VERSION:1.0
PRODID:Open2CKalenderExportV11
BEGIN:VEVENT
DTSTAMP:20260313T112235Z
DTSTART:20260520T190000Z
DTEND:20260520T190000Z
SUMMARY:Die Grünen Bindlach, Offener Stammtisch, Ristorante San Marino
DESCRIPTION:Die Grünen Bindlach, Offener Stammtisch, Ristorante San Marino
LOCATION:
UID:f0270c2eee4ea7e2b5d3dd2376a7b470-fef65afe8073569684a0bf0e9ee86d62
PRIORITY:3
END:VEVENT
END:VCALENDAR
