BEGIN:VCALENDAR
VERSION:1.0
PRODID:Open2CKalenderExportV11
BEGIN:VEVENT
DTSTAMP:20260313T112435Z
DTSTART:20260606T000000Z
DTEND:20260606T000000Z
SUMMARY:FF Deps, Sommernachtsfest
DESCRIPTION:FF Deps, Sommernachtsfest
LOCATION:
UID:210231cec602e94bfabd9e1152347351-35d8804f438e60006b75355097008984
PRIORITY:3
END:VEVENT
END:VCALENDAR
