BEGIN:VCALENDAR
VERSION:1.0
PRODID:Open2CKalenderExportV11
BEGIN:VEVENT
DTSTAMP:20260313T112449Z
DTSTART:20260613T000000Z
DTEND:20260613T000000Z
SUMMARY:Evang. Kirche Bindlach, Konzert Andy Weiss
DESCRIPTION:Evang. Kirche Bindlach, Konzert Andy Weiss
LOCATION:
UID:8700c6a5bc55c226bb4b9053e771c7ed-1f757a8556c1722796f4bc6d5d7e0576
PRIORITY:3
END:VEVENT
END:VCALENDAR
