BEGIN:VCALENDAR
VERSION:1.0
PRODID:Open2CKalenderExportV11
BEGIN:VEVENT
DTSTAMP:20260313T112507Z
DTSTART:20260613T000000Z
DTEND:20260614T000000Z
SUMMARY:FF Crottendorf, 150 Jahre FF Crottendorf
DESCRIPTION:FF Crottendorf, 150 Jahre FF Crottendorf
LOCATION:
UID:9e418dbf8cd4031fcb39cfecb7846814-564e47997840c7f42e21383a3d5fe373
PRIORITY:3
END:VEVENT
END:VCALENDAR
