BEGIN:VCALENDAR
VERSION:1.0
PRODID:Open2CKalenderExportV11
BEGIN:VEVENT
DTSTAMP:20260313T112526Z
DTSTART:20260614T000000Z
DTEND:20260614T000000Z
SUMMARY:Evang. Kirche Bindlach, Gottesdienst im Grünen zum 150. Jub. FF Crottendorf, 10 Uhr
DESCRIPTION:Evang. Kirche Bindlach, Gottesdienst im Grünen zum 150. Jub. FF Crottendorf, 10 Uhr
LOCATION:
UID:75f5b228bc09684bf58ef18db1686dc3-86ab5bc75b7a8eab2534af8547090f64
PRIORITY:3
END:VEVENT
END:VCALENDAR
