BEGIN:VCALENDAR
VERSION:1.0
PRODID:Open2CKalenderExportV11
BEGIN:VEVENT
DTSTAMP:20260313T112542Z
DTSTART:20260619T000000Z
DTEND:20260619T000000Z
SUMMARY:FF Benk, GV Benk-Deps, Kanzfeuer Benk
DESCRIPTION:FF Benk, GV Benk-Deps, Kanzfeuer Benk
LOCATION:
UID:b10a9287f1dca57ed90b373bf644bd30-26730e21f2eb0ef075c1fcb91000024d
PRIORITY:3
END:VEVENT
END:VCALENDAR
