BEGIN:VCALENDAR
VERSION:1.0
PRODID:Open2CKalenderExportV11
BEGIN:VEVENT
DTSTAMP:20260313T112554Z
DTSTART:20260619T000000Z
DTEND:20260619T000000Z
SUMMARY:TSV Bindlach, Kanzfeuer
DESCRIPTION:TSV Bindlach, Kanzfeuer
LOCATION:
UID:b10a9287f1dca57ed90b373bf644bd30-c98aa2c102b980b49946792c22a09077
PRIORITY:3
END:VEVENT
END:VCALENDAR
