BEGIN:VCALENDAR
VERSION:1.0
PRODID:Open2CKalenderExportV11
BEGIN:VEVENT
DTSTAMP:20260313T112607Z
DTSTART:20260620T000000Z
DTEND:20260620T000000Z
SUMMARY:FF Euben, Kanzfeuer
DESCRIPTION:FF Euben, Kanzfeuer
LOCATION:
UID:8d8f75339b6f9d9c0f892a3d596acf1b-441ebbbf49f1193176feab52889bd156
PRIORITY:3
END:VEVENT
END:VCALENDAR
