BEGIN:VCALENDAR
VERSION:1.0
PRODID:Open2CKalenderExportV11
BEGIN:VEVENT
DTSTAMP:20260313T112621Z
DTSTART:20260620T000000Z
DTEND:20260620T000000Z
SUMMARY:SV Ramsenthal, Kanzfeuer
DESCRIPTION:SV Ramsenthal, Kanzfeuer
LOCATION:
UID:8d8f75339b6f9d9c0f892a3d596acf1b-4f5c22f3c1f10c8411b7b14cd1cfd6c3
PRIORITY:3
END:VEVENT
END:VCALENDAR
