BEGIN:VCALENDAR
VERSION:1.0
PRODID:Open2CKalenderExportV11
BEGIN:VEVENT
DTSTAMP:20260313T112648Z
DTSTART:20260627T000000Z
DTEND:20260627T000000Z
SUMMARY:Bürgerverein Bindlacher Berg, Bergfest 2026, 14 Uhr
DESCRIPTION:Bürgerverein Bindlacher Berg, Bergfest 2026, 14 Uhr
LOCATION:
UID:e20c97b3bbef13d74112927a47b6ce95-0349ab65ad6ffa7a1d2db0fae9dcb97a
PRIORITY:3
END:VEVENT
END:VCALENDAR
