BEGIN:VCALENDAR
VERSION:1.0
PRODID:Open2CKalenderExportV11
BEGIN:VEVENT
DTSTAMP:20260313T112737Z
DTSTART:20260718T000000Z
DTEND:20260718T000000Z
SUMMARY:Grund- und Mittelschule Bindlach, Grundschulmeisterschaft Schach, Bärenhalle
DESCRIPTION:Grund- und Mittelschule Bindlach, Grundschulmeisterschaft Schach, Bärenhalle
LOCATION:
UID:54badb53f70e4adb7c644b12271235a4-daf2e817a4f59658ca7a7b5bd32b6a4f
PRIORITY:3
END:VEVENT
END:VCALENDAR
