BEGIN:VCALENDAR
VERSION:1.0
PRODID:Open2CKalenderExportV11
BEGIN:VEVENT
DTSTAMP:20260313T112830Z
DTSTART:20260718T000000Z
DTEND:20260719T000000Z
SUMMARY:Evang. Kirche Bindlach, Beichte und Grüne Konfirmation
DESCRIPTION:Evang. Kirche Bindlach, Beichte und Grüne Konfirmation
LOCATION:
UID:82f1c1aada40f5b9e95d7144fda04035-bf1d225c4a8e0a601ba5f6d0416faef4
PRIORITY:3
END:VEVENT
END:VCALENDAR
