BEGIN:VCALENDAR
VERSION:1.0
PRODID:Open2CKalenderExportV11
BEGIN:VEVENT
DTSTAMP:20260313T112847Z
DTSTART:20260724T000000Z
DTEND:20260726T000000Z
SUMMARY:FF Benk, GV Benk-Deps, Dorffest
DESCRIPTION:FF Benk, GV Benk-Deps, Dorffest
LOCATION:
UID:b23462111d0a37a83a515c6054d5b850-83f880900082877666c207299ddcdb38
PRIORITY:3
END:VEVENT
END:VCALENDAR
