BEGIN:VCALENDAR
VERSION:1.0
PRODID:Open2CKalenderExportV11
BEGIN:VEVENT
DTSTAMP:20260313T112928Z
DTSTART:20260729T000000Z
DTEND:20260803T000000Z
SUMMARY:Bärenkerwaverein, Bärenkerwa, TSV-Gelände
DESCRIPTION:Bärenkerwaverein, Bärenkerwa, TSV-Gelände
LOCATION:
UID:c191f63b13a71349318e501d5680b51c-daecd3505159c18ba0068fd9a4f246c1
PRIORITY:3
END:VEVENT
END:VCALENDAR
