BEGIN:VCALENDAR
VERSION:1.0
PRODID:Open2CKalenderExportV11
BEGIN:VEVENT
DTSTAMP:20260313T113055Z
DTSTART:20260808T000000Z
DTEND:20260809T000000Z
SUMMARY:ELJ Gräfenthal, Sommernachtskerwa
DESCRIPTION:ELJ Gräfenthal, Sommernachtskerwa
LOCATION:
UID:e7219d1f9bdb7dba1c703af27be3694f-d70abdb61f3aec04204b4fb6c473b693
PRIORITY:3
END:VEVENT
END:VCALENDAR
