BEGIN:VCALENDAR
VERSION:1.0
PRODID:Open2CKalenderExportV11
BEGIN:VEVENT
DTSTAMP:20260313T113114Z
DTSTART:20260809T000000Z
DTEND:20260809T000000Z
SUMMARY:Evang. Kirche Bindlach, Gottesdienst im Grünen, Landjugend Lerchenhof
DESCRIPTION:Evang. Kirche Bindlach, Gottesdienst im Grünen, Landjugend Lerchenhof
LOCATION:
UID:62e347bcfa1e8ab48fbe44d160d43d0d-99318ecdbc5c968a7fe9ae6c6e77a5bd
PRIORITY:3
END:VEVENT
END:VCALENDAR
