BEGIN:VCALENDAR
VERSION:1.0
PRODID:Open2CKalenderExportV11
BEGIN:VEVENT
DTSTAMP:20260313T113135Z
DTSTART:20260816T000000Z
DTEND:20260816T000000Z
SUMMARY:Evang. Kirche Bindlach und Neudrossenfeld, Pilgergottesdienst von Bindlach nach Theta, 9:30 Uhr
DESCRIPTION:Evang. Kirche Bindlach und Neudrossenfeld, Pilgergottesdienst von Bindlach nach Theta, 9:30 Uhr
LOCATION:
UID:8ae366718a28fa3051f077a09655e0a0-e47d8eb28516e5cd4c5b9611ccb76dd7
PRIORITY:3
END:VEVENT
END:VCALENDAR
