BEGIN:VCALENDAR
VERSION:1.0
PRODID:Open2CKalenderExportV11
BEGIN:VEVENT
DTSTAMP:20260313T113156Z
DTSTART:20260822T000000Z
DTEND:20260824T000000Z
SUMMARY:SKC Steig Bindlach, Bindlacher Kerwa, Zeltkerwa
DESCRIPTION:SKC Steig Bindlach, Bindlacher Kerwa, Zeltkerwa
LOCATION:
UID:72b965ca48f273042ca371f71fe67771-b8d139c27ce3dbe04c17b577f9f034c6
PRIORITY:3
END:VEVENT
END:VCALENDAR
