BEGIN:VCALENDAR
VERSION:1.0
PRODID:Open2CKalenderExportV11
BEGIN:VEVENT
DTSTAMP:20260313T113215Z
DTSTART:20260912T000000Z
DTEND:20260912T000000Z
SUMMARY:FF Crottendorf, Weinfest
DESCRIPTION:FF Crottendorf, Weinfest
LOCATION:
UID:c5ea37087f50cabae3c081b140fd390c-768c1f1c3df21650b129dffa60b7ed31
PRIORITY:3
END:VEVENT
END:VCALENDAR
