BEGIN:VCALENDAR
VERSION:1.0
PRODID:Open2CKalenderExportV11
BEGIN:VEVENT
DTSTAMP:20260313T113227Z
DTSTART:20260919T000000Z
DTEND:20260919T000000Z
SUMMARY:SV Ramsenthal, Oktoberfest
DESCRIPTION:SV Ramsenthal, Oktoberfest
LOCATION:
UID:0419319960ed17abf5bf0acf36afa204-f9d4bd343950fc94c1c24fb50e4133cd
PRIORITY:3
END:VEVENT
END:VCALENDAR
