BEGIN:VCALENDAR
VERSION:1.0
PRODID:Open2CKalenderExportV11
BEGIN:VEVENT
DTSTAMP:20260313T113246Z
DTSTART:20260924T000000Z
DTEND:20260925T000000Z
SUMMARY:Fega & Schmitt, Herbstmesse, Bärenhalle
DESCRIPTION:Fega &amp; Schmitt, Herbstmesse, Bärenhalle
LOCATION:
UID:a474c0488973bd298cd5375dcf9b1900-e1f843f86c91b7dfee97f2ed5aed2d53
PRIORITY:3
END:VEVENT
END:VCALENDAR
