BEGIN:VCALENDAR
VERSION:1.0
PRODID:Open2CKalenderExportV11
BEGIN:VEVENT
DTSTAMP:20260313T113303Z
DTSTART:20260927T000000Z
DTEND:20260927T000000Z
SUMMARY:Evang. Kirche Bindlach, Gemeindefest
DESCRIPTION:Evang. Kirche Bindlach, Gemeindefest
LOCATION:
UID:7405bf783c66181bf68295bf3c97f158-34b70ee14663e21f77cb224d2291e189
PRIORITY:3
END:VEVENT
END:VCALENDAR
