BEGIN:VCALENDAR
VERSION:1.0
PRODID:Open2CKalenderExportV11
BEGIN:VEVENT
DTSTAMP:20260313T113317Z
DTSTART:20261004T000000Z
DTEND:20261004T000000Z
SUMMARY:die marktweiber, Kreativmarkt, Bärenhalle
DESCRIPTION:die marktweiber, Kreativmarkt, Bärenhalle
LOCATION:
UID:39ed4a5e26cc49207cc440a85b9b6ef8-a68e8e136f5c0302a4599afa67183582
PRIORITY:3
END:VEVENT
END:VCALENDAR
