BEGIN:VCALENDAR
VERSION:1.0
PRODID:Open2CKalenderExportV11
BEGIN:VEVENT
DTSTAMP:20260313T113355Z
DTSTART:20261016T000000Z
DTEND:20261016T000000Z
SUMMARY:Evang. Kirche Bindlach, Trau-Erinnerungsgottesdienst
DESCRIPTION:Evang. Kirche Bindlach, Trau-Erinnerungsgottesdienst
LOCATION:
UID:4b81c152967a00b0679fea51ad4003d6-ce22ef65b1d89ff6626ce5d62068908e
PRIORITY:3
END:VEVENT
END:VCALENDAR
