BEGIN:VCALENDAR
VERSION:1.0
PRODID:Open2CKalenderExportV11
BEGIN:VEVENT
DTSTAMP:20260313T113408Z
DTSTART:20261017T000000Z
DTEND:20261017T000000Z
SUMMARY:FF Ramsenthal, Weinfest, 17 Uhr, Feuerwehrhaus Ramsenthal
DESCRIPTION:FF Ramsenthal, Weinfest, 17 Uhr, Feuerwehrhaus Ramsenthal
LOCATION:
UID:8de7d1dcb07e0329cda91e26837bff0e-7273616065dfa7406bbb957306fb867b
PRIORITY:3
END:VEVENT
END:VCALENDAR
