BEGIN:VCALENDAR
VERSION:1.0
PRODID:Open2CKalenderExportV11
BEGIN:VEVENT
DTSTAMP:20260313T113420Z
DTSTART:20261018T000000Z
DTEND:20261018T000000Z
SUMMARY:Gemeinde Bindlach, Herbstflohmarkt, Bärenhalle
DESCRIPTION:Gemeinde Bindlach, Herbstflohmarkt, Bärenhalle
LOCATION:
UID:44f105ee072c53d388e1fe087fe3447e-a59ebd8de93c637e976e2247f18db4c1
PRIORITY:3
END:VEVENT
END:VCALENDAR
