BEGIN:VCALENDAR
VERSION:1.0
PRODID:Open2CKalenderExportV11
BEGIN:VEVENT
DTSTAMP:20260313T113436Z
DTSTART:20261018T140000Z
DTEND:20261018T140000Z
SUMMARY:OGV Bindlach, OGV-Herbstfest, 14 Uhr, Altes Feuerwehrhaus
DESCRIPTION:OGV Bindlach, OGV-Herbstfest, 14 Uhr, Altes Feuerwehrhaus
LOCATION:
UID:8bf00cbb2c85456a5fa2e77f52f8104f-167d7fe14c56b640d40c0f4fd1297a1c
PRIORITY:3
END:VEVENT
END:VCALENDAR
