BEGIN:VCALENDAR
VERSION:1.0
PRODID:Open2CKalenderExportV11
BEGIN:VEVENT
DTSTAMP:20260313T113455Z
DTSTART:20261024T000000Z
DTEND:20261025T000000Z
SUMMARY:Kurier, Bauschlau-Messe, Bärenhalle
DESCRIPTION:Kurier, Bauschlau-Messe, Bärenhalle
LOCATION:
UID:58d2edfb7a30e801d6fb72f91951897d-c358d6225cd54ee4001f1fbb21a0a626
PRIORITY:3
END:VEVENT
END:VCALENDAR
