BEGIN:VCALENDAR
VERSION:1.0
PRODID:Open2CKalenderExportV11
BEGIN:VEVENT
DTSTAMP:20260313T113512Z
DTSTART:20261101T000000Z
DTEND:20261101T000000Z
SUMMARY:SV Ramsenthal, Preisschafkopf
DESCRIPTION:SV Ramsenthal, Preisschafkopf
LOCATION:
UID:e09715393b81f2461a8a137c15b72e4b-c59fdc6c11a26c58393ea6509eec51ac
PRIORITY:3
END:VEVENT
END:VCALENDAR
