BEGIN:VCALENDAR
VERSION:1.0
PRODID:Open2CKalenderExportV11
BEGIN:VEVENT
DTSTAMP:20260313T113525Z
DTSTART:20261107T000000Z
DTEND:20261107T000000Z
SUMMARY:Fa. Hößl Events, Winterinvasion, Bärenhalle
DESCRIPTION:Fa. Hößl Events, Winterinvasion, Bärenhalle
LOCATION:
UID:caa1d0c23f0899a8a810a6c9da8c9342-f990897d6aeb5f98c93080886cd0be2e
PRIORITY:3
END:VEVENT
END:VCALENDAR
