BEGIN:VCALENDAR
VERSION:1.0
PRODID:Open2CKalenderExportV11
BEGIN:VEVENT
DTSTAMP:20260313T113550Z
DTSTART:20261126T000000Z
DTEND:20261126T000000Z
SUMMARY:CSU Bindlach, After-Work, Pfitschn
DESCRIPTION:CSU Bindlach, After-Work, Pfitschn
LOCATION:
UID:cffd36b5c86a7d17c63c0827dd77d29c-c65e8a70cae1f71d9e1e67d8df6f22c4
PRIORITY:3
END:VEVENT
END:VCALENDAR
