BEGIN:VCALENDAR
VERSION:1.0
PRODID:Open2CKalenderExportV11
BEGIN:VEVENT
DTSTAMP:20260313T113611Z
DTSTART:20261126T000000Z
DTEND:20261126T000000Z
SUMMARY:Diakonie Bindlach, Jahreshauptversammlung, Mitgliederversammlung
DESCRIPTION:Diakonie Bindlach, Jahreshauptversammlung, Mitgliederversammlung
LOCATION:
UID:cffd36b5c86a7d17c63c0827dd77d29c-97ed4d1d1634dc4d4eada9a27fdfbfed
PRIORITY:3
END:VEVENT
END:VCALENDAR
